BEGIN:VCALENDAR
VERSION:2.0
PRODID:spatie/icalendar-generator
DESCRIPTION:Events from Thoreau School
X-WR-CALDESC:Events from Thoreau School
REFRESH-INTERVAL;VALUE=DURATION:PT1440M
X-PUBLISHED-TTL:PT1440M
BEGIN:VTIMEZONE
TZID:Etc/GMT+0
BEGIN:STANDARD
DTSTART:20250410T000000Z
TZOFFSETFROM:+0000
TZOFFSETTO:+0000
END:STANDARD
END:VTIMEZONE
BEGIN:VTIMEZONE
TZID:UTC
BEGIN:STANDARD
DTSTART:20250725T182817Z
TZOFFSETFROM:+0000
TZOFFSETTO:+0000
END:STANDARD
END:VTIMEZONE
BEGIN:VEVENT
UID:1173-484
DTSTAMP:20260421T182817Z
SUMMARY:Classes resume
LOCATION:
ORGANIZER;CN=Renea Drews:MAILTO:drewsrl@milwaukee.k12.wi.us
DTSTART;TZID=Etc/GMT+0;VALUE=DATE:20260105
DTEND;TZID=Etc/GMT+0;VALUE=DATE:20260106
X-ALT-DESC;FMTTYPE=TEXT/HTML:
CATEGORIES:Academic Calendar (All Schools)
URL;VALUE=URI:https://k12.mps.school/thoreau/calendar/?mc_id=1173&#038;vcal
 =1173
METHOD:PUBLISH
END:VEVENT
END:VCALENDAR