BEGIN:VCALENDAR
VERSION:2.0
PRODID:spatie/icalendar-generator
DESCRIPTION:Events from Rogers Street Academy
X-WR-CALDESC:Events from Rogers Street Academy
REFRESH-INTERVAL;VALUE=DURATION:PT1440M
X-PUBLISHED-TTL:PT1440M
BEGIN:VTIMEZONE
TZID:Etc/GMT+0
BEGIN:STANDARD
DTSTART:20250802T150000Z
TZOFFSETFROM:+0000
TZOFFSETTO:+0000
END:STANDARD
END:VTIMEZONE
BEGIN:VTIMEZONE
TZID:UTC
BEGIN:STANDARD
DTSTART:20250730T023853Z
TZOFFSETFROM:+0000
TZOFFSETTO:+0000
END:STANDARD
END:VTIMEZONE
BEGIN:VEVENT
UID:1438-700
DTSTAMP:20260426T023853Z
SUMMARY:Children's Day &amp;amp\; Literacy  Fun!
LOCATION:School Gym
ORGANIZER;CN=R. Drews:MAILTO:drewsrl@milwaukee.k12.wi.us
DTSTART;TZID=Etc/GMT+0:20260429T150000
DTEND;TZID=Etc/GMT+0:20260429T170000
X-ALT-DESC;FMTTYPE=TEXT/HTML:
CATEGORIES:Rogers Calendar
URL;VALUE=URI:https://k12.mps.school/rogers/calendar/?mc_id=1438&#038;vcal=
 1438
METHOD:PUBLISH
END:VEVENT
END:VCALENDAR